BEGIN:VCALENDAR
VERSION:2.0
PRODID:-//Church of Saint Anthony - ECPv6.6.1//NONSGML v1.0//EN
CALSCALE:GREGORIAN
METHOD:PUBLISH
X-ORIGINAL-URL:https://saint-anthony.org
X-WR-CALDESC:Events for Church of Saint Anthony
REFRESH-INTERVAL;VALUE=DURATION:PT1H
X-Robots-Tag:noindex
X-PUBLISHED-TTL:PT1H
BEGIN:VTIMEZONE
TZID:Asia/Shanghai
BEGIN:STANDARD
TZOFFSETFROM:+0800
TZOFFSETTO:+0800
TZNAME:CST
DTSTART:20200101T000000
END:STANDARD
END:VTIMEZONE
BEGIN:VEVENT
DTSTART;TZID=Asia/Shanghai:20200607T160000
DTEND;TZID=Asia/Shanghai:20200607T170000
DTSTAMP:20260421T195852
CREATED:20200520T190730Z
LAST-MODIFIED:20200529T073148Z
UID:4959-1591545600-1591549200@saint-anthony.org
SUMMARY:Week 7 - 7 Lilies Devotion to St Anthony
DESCRIPTION:As part of our 60th Anniversary Feast Day Celebrations\, we will have the 7 Lilies of St Anthony devotion starting on April 26\, 2020 and for the following 6 Sundays at 4.00 PM. We will stream live the Relic of St Anthony (originally presented to our church by MP Alex Yam at the Blessing of the Church on July 2\, 2019) at https://www.youtube.com/c/ChurchofStAnthonySingapore.\n\n\n \n\n\nWe pray that he continues to shower us with his blessings and protection\, to find us a cure for this pandemic and with his lilies\, empower us and strengthen us with the graces of the Holy Spirit.
URL:https://saint-anthony.org/event/week-6-7-lilies-devotion-to-st-anthony-2/
LOCATION:YouTube
CATEGORIES:Feast Day,Liturgy,YouTube Webcast
ATTACH;FMTTYPE=image/jpeg:https://saint-anthony.org/wp-content/uploads/2020/05/Sirani_-_Gesù_Bambino_e_SantAntonio_da_Padova-scaled.jpg
END:VEVENT
BEGIN:VEVENT
DTSTART;TZID=Asia/Shanghai:20200613T173000
DTEND;TZID=Asia/Shanghai:20200613T183000
DTSTAMP:20260421T195852
CREATED:20200603T145719Z
LAST-MODIFIED:20200603T145719Z
UID:5132-1592069400-1592073000@saint-anthony.org
SUMMARY:Feast of St Anthony
DESCRIPTION:This year’s Feast Day Mass on Sat\, June 13\, 2020 will be webcast to our YouTube channel at https://www.youtube.com/c/ChurchofStAnthonySingapore starting at 5.30 PM. \nFr Ignatius Yeo will preside at the mass. Fr Simon Pereira CSsR has kindly accepted our invitation to preach the homily on the topic of “Giving Him Praise and Thanks!” \n 
URL:https://saint-anthony.org/event/feast-of-st-anthony/
LOCATION:YouTube
CATEGORIES:Feast Day,Liturgy,YouTube Webcast
ATTACH;FMTTYPE=image/jpeg:https://saint-anthony.org/wp-content/uploads/2020/06/Feast-of-St-Anthony-2020.jpg
END:VEVENT
END:VCALENDAR