BEGIN:VCALENDAR
VERSION:2.0
PRODID:-//Church of Saint Anthony - ECPv6.6.1//NONSGML v1.0//EN
CALSCALE:GREGORIAN
METHOD:PUBLISH
X-WR-CALNAME:Church of Saint Anthony
X-ORIGINAL-URL:https://saint-anthony.org
X-WR-CALDESC:Events for Church of Saint Anthony
REFRESH-INTERVAL;VALUE=DURATION:PT1H
X-Robots-Tag:noindex
X-PUBLISHED-TTL:PT1H
BEGIN:VTIMEZONE
TZID:Asia/Shanghai
BEGIN:STANDARD
TZOFFSETFROM:+0800
TZOFFSETTO:+0800
TZNAME:CST
DTSTART:20200101T000000
END:STANDARD
END:VTIMEZONE
BEGIN:VEVENT
DTSTART;VALUE=DATE:20200527
DTEND;VALUE=DATE:20200528
DTSTAMP:20260422T043215
CREATED:20200520T191814Z
LAST-MODIFIED:20200520T191923Z
UID:4963-1590537600-1590623999@saint-anthony.org
SUMMARY:Ruah Formation Series on YouTube - Week 2
DESCRIPTION:Week 2 of an 8-part series of online talks called RUAH to help us to be spiritually formed and recharged as masses continue to be suspended due to the COVID-19 restrictions. \nWeek 2 will be available on YouTube at https://www.youtube.com/c/ChurchofStAnthonySingapore. \n“RUAH” (pronounced as RU-WAH)\, a Hebrew word which means wind or breath of the Spirit.
URL:https://saint-anthony.org/event/ruah-formation-series-on-youtube-week-2/
CATEGORIES:Formation,Outreach,Talk,Youth,YouTube Webcast
ATTACH;FMTTYPE=image/png:https://saint-anthony.org/wp-content/uploads/2020/05/Ruah-Week-2.png
END:VEVENT
END:VCALENDAR