BEGIN:VCALENDAR
VERSION:2.0
PRODID:-//Church of Saint Anthony - ECPv6.6.1//NONSGML v1.0//EN
CALSCALE:GREGORIAN
METHOD:PUBLISH
X-ORIGINAL-URL:https://saint-anthony.org
X-WR-CALDESC:Events for Church of Saint Anthony
REFRESH-INTERVAL;VALUE=DURATION:PT1H
X-Robots-Tag:noindex
X-PUBLISHED-TTL:PT1H
BEGIN:VTIMEZONE
TZID:Asia/Shanghai
BEGIN:STANDARD
TZOFFSETFROM:+0800
TZOFFSETTO:+0800
TZNAME:CST
DTSTART:20200101T000000
END:STANDARD
END:VTIMEZONE
BEGIN:VEVENT
DTSTART;TZID=Asia/Shanghai:20200521T200000
DTEND;TZID=Asia/Shanghai:20200521T210000
DTSTAMP:20260425T200513
CREATED:20200520T165334Z
LAST-MODIFIED:20200521T135427Z
UID:4833-1590091200-1590094800@saint-anthony.org
SUMMARY:Solemnity of the Ascension of the Lord (Day of Obligation)
DESCRIPTION:Live-stream Mass on YouTube \nPlease join us for the video of the Mass which will be streamed live via YouTube as follows: \n21st May 2020\, 8.00 PM: https://youtu.be/MPW2-MricPc \n 
URL:https://saint-anthony.org/event/solemnity-of-the-ascension-of-the-lord-day-of-obligation/
CATEGORIES:Day of Obligation,Liturgy,YouTube Webcast
ATTACH;FMTTYPE=image/jpeg:https://saint-anthony.org/wp-content/uploads/2020/05/800px-Obereschach_Pfarrkirche_Fresko_Fugel_Christi_Himmelfahrt_crop-e1589994114471.jpg
END:VEVENT
BEGIN:VEVENT
DTSTART;TZID=Asia/Shanghai:20200523T165000
DTEND;TZID=Asia/Shanghai:20200523T183000
DTSTAMP:20260425T200513
CREATED:20200520T191246Z
LAST-MODIFIED:20200520T191246Z
UID:4961-1590252600-1590258600@saint-anthony.org
SUMMARY:7th Sunday of Easter (Sunset Mass)
DESCRIPTION:Please join us for the live-stream of the rosary followed by mass on Sat\, May 23\, 2020. Rosary starts at 4.50 PM followed by Sunset Mass at 5.30 PM. \nThis will be streamed live to our YouTube Channel: https://www.youtube.com/c/ChurchofStAnthonySingapore
URL:https://saint-anthony.org/event/7th-sunday-of-easter-sunset-mass/
CATEGORIES:Liturgy,YouTube Webcast
ATTACH;FMTTYPE=image/jpeg:https://saint-anthony.org/wp-content/uploads/2020/03/altar-front-view.jpg
END:VEVENT
BEGIN:VEVENT
DTSTART;TZID=Asia/Shanghai:20200524T160000
DTEND;TZID=Asia/Shanghai:20200524T170000
DTSTAMP:20260425T200513
CREATED:20200520T190135Z
LAST-MODIFIED:20200520T190529Z
UID:4954-1590336000-1590339600@saint-anthony.org
SUMMARY:Week 5 - 7 Lilies Devotion to St Anthony
DESCRIPTION:As part of our 60th Anniversary Feast Day Celebrations\, we will have the 7 Lilies of St Anthony devotion starting on April 26\, 2020 and for the following 6 Sundays at 4.00 PM. We will live-stream the Relic of St Anthony (originally presented to our church by MP Alex Yam at the Blessing of the Church on July 2\, 2019) at https://www.youtube.com/c/ChurchofStAnthonySingapore\n\n\n \n\n\nWe pray that he continues to shower us with his blessings and protection\, to find us a cure for this pandemic and with his lilies\, empower us and strengthen us with the graces of the Holy Spirit.
URL:https://saint-anthony.org/event/week-5-7-lilies-devotion-to-st-anthony/
CATEGORIES:Feast Day,Liturgy,YouTube Webcast
ATTACH;FMTTYPE=image/jpeg:https://saint-anthony.org/wp-content/uploads/2020/05/Sirani_-_Gesù_Bambino_e_SantAntonio_da_Padova-scaled.jpg
END:VEVENT
BEGIN:VEVENT
DTSTART;TZID=Asia/Shanghai:20200527T183000
DTEND;TZID=Asia/Shanghai:20200527T193000
DTSTAMP:20260425T200513
CREATED:20200526T141339Z
LAST-MODIFIED:20200529T072439Z
UID:5061-1590604200-1590607800@saint-anthony.org
SUMMARY:Triduum to the Holy Spirit - Day 1
DESCRIPTION:Please join us for our webcast via Zoom of the Triduum to the Holy Spirit on the following dates: \nDay 1: Wed\, May 27\, 2020\nDay 2: Thu\, May 28\, 2020\nDay 3: Fri\, May 29\, 2020 \nFor all 3 days the mass will be on Zoom. \nDetails as follows:\nStarts at 6.30 PM with Praise and Worship followed by Mass. \nZoom Meeting ID: 914 9604 2004\nPassword: 483065
URL:https://saint-anthony.org/event/triduum-to-the-holy-spirit-day-1/
LOCATION:Zoom
CATEGORIES:Liturgy,Zoom Event
ATTACH;FMTTYPE=image/jpeg:https://saint-anthony.org/wp-content/uploads/2020/05/Triduum-to-the-Holy-Spirit.jpg
END:VEVENT
BEGIN:VEVENT
DTSTART;TZID=Asia/Shanghai:20200528T183000
DTEND;TZID=Asia/Shanghai:20200528T193000
DTSTAMP:20260425T200513
CREATED:20200526T141902Z
LAST-MODIFIED:20200529T072414Z
UID:5065-1590690600-1590694200@saint-anthony.org
SUMMARY:Triduum to the Holy Spirit - Day 2
DESCRIPTION:Please join us for our webcast via Zoom of the Triduum to the Holy Spirit on the following dates: \nDay 1: Wed\, May 27\, 2020\nDay 2: Thu\, May 28\, 2020\nDay 3: Fri\, May 29\, 2020 \nFor all 3 days the mass will be on Zoom. \nDetails as follows:\nStarts at 6.30 PM with Praise and Worship followed by Mass. \nZoom Meeting ID: 914 9604 2004\nPassword: 483065
URL:https://saint-anthony.org/event/triduum-to-the-holy-spirit-day-2/
LOCATION:Zoom
CATEGORIES:Liturgy,Zoom Event
ATTACH;FMTTYPE=image/jpeg:https://saint-anthony.org/wp-content/uploads/2020/05/Triduum-to-the-Holy-Spirit.jpg
END:VEVENT
BEGIN:VEVENT
DTSTART;TZID=Asia/Shanghai:20200529T183000
DTEND;TZID=Asia/Shanghai:20200529T193000
DTSTAMP:20260425T200513
CREATED:20200526T142157Z
LAST-MODIFIED:20200529T072350Z
UID:5067-1590777000-1590780600@saint-anthony.org
SUMMARY:Triduum to the Holy Spirit - Day 3
DESCRIPTION:Please join us for our webcast via Zoom of the Triduum to the Holy Spirit on the following dates: \nDay 1: Wed\, May 27\, 2020\nDay 2: Thu\, May 28\, 2020\nDay 3: Fri\, May 29\, 2020 \nFor all 3 days the mass will be on Zoom. \nDetails as follows:\nStarts at 6.30 PM with Praise and Worship followed by Mass. \nZoom Meeting ID: 914 9604 2004\nPassword: 483065
URL:https://saint-anthony.org/event/triduum-to-the-holy-spirit-day-3/
LOCATION:Zoom
CATEGORIES:Liturgy,Zoom Event
ATTACH;FMTTYPE=image/jpeg:https://saint-anthony.org/wp-content/uploads/2020/05/Triduum-to-the-Holy-Spirit.jpg
END:VEVENT
BEGIN:VEVENT
DTSTART;TZID=Asia/Shanghai:20200531T160000
DTEND;TZID=Asia/Shanghai:20200531T170000
DTSTAMP:20260425T200513
CREATED:20200520T190457Z
LAST-MODIFIED:20200529T073228Z
UID:4957-1590940800-1590944400@saint-anthony.org
SUMMARY:Week 6 - 7 Lilies Devotion to St Anthony
DESCRIPTION:As part of our 60th Anniversary Feast Day Celebrations\, we will have the 7 Lilies of St Anthony devotion starting on April 26\, 2020 and for the following 6 Sundays at 4.00 PM. We will live-stream the Relic of St Anthony (originally presented to our church by MP Alex Yam at the Blessing of the Church on July 2\, 2019) at https://www.youtube.com/c/ChurchofStAnthonySingapore\n\n\n \n\n\nWe pray that he continues to shower us with his blessings and protection\, to find us a cure for this pandemic and with his lilies\, empower us and strengthen us with the graces of the Holy Spirit.
URL:https://saint-anthony.org/event/week-6-7-lilies-devotion-to-st-anthony/
LOCATION:YouTube
CATEGORIES:Feast Day,Liturgy,YouTube Webcast
ATTACH;FMTTYPE=image/jpeg:https://saint-anthony.org/wp-content/uploads/2020/05/Sirani_-_Gesù_Bambino_e_SantAntonio_da_Padova-scaled.jpg
END:VEVENT
END:VCALENDAR