BEGIN:VCALENDAR
VERSION:2.0
PRODID:-//Church of Saint Anthony - ECPv6.6.1//NONSGML v1.0//EN
CALSCALE:GREGORIAN
METHOD:PUBLISH
X-WR-CALNAME:Church of Saint Anthony
X-ORIGINAL-URL:https://saint-anthony.org
X-WR-CALDESC:Events for Church of Saint Anthony
REFRESH-INTERVAL;VALUE=DURATION:PT1H
X-Robots-Tag:noindex
X-PUBLISHED-TTL:PT1H
BEGIN:VTIMEZONE
TZID:Asia/Shanghai
BEGIN:STANDARD
TZOFFSETFROM:+0800
TZOFFSETTO:+0800
TZNAME:CST
DTSTART:20200101T000000
END:STANDARD
END:VTIMEZONE
BEGIN:VEVENT
DTSTART;TZID=Asia/Shanghai:20200614T173000
DTEND;TZID=Asia/Shanghai:20200614T183000
DTSTAMP:20260425T233511
CREATED:20200611T180925Z
LAST-MODIFIED:20200611T180925Z
UID:5178-1592155800-1592159400@saint-anthony.org
SUMMARY:Corpus Christi
DESCRIPTION:Solemnity of the Most Holy Body and Blood of Christ \nJoin us at our YouTube channel on Sunday\, Jun 14\, 2020 at 5.30 PM for the Holy Mass presided over by Fr Ignatius Yeo
URL:https://saint-anthony.org/event/corpus-christi/
LOCATION:Church Hall
CATEGORIES:Liturgy
ATTACH;FMTTYPE=image/jpeg:https://saint-anthony.org/wp-content/uploads/2020/06/cathopic_1487538598593232-500.jpg
END:VEVENT
BEGIN:VEVENT
DTSTART;TZID=Asia/Shanghai:20200704T173000
DTEND;TZID=Asia/Shanghai:20200704T183000
DTSTAMP:20260425T233511
CREATED:20200703T190708Z
LAST-MODIFIED:20200703T190708Z
UID:5242-1593883800-1593887400@saint-anthony.org
SUMMARY:Sunset Mass on Jul 4\, 2020
DESCRIPTION:The Sunset Mass for the 14th Sunday in Ordinary Time will be webcast to our YouTube channel at 5.30 PM on Jul 4\, 2020. \nhttps://www.youtube.com/c/ChurchofStAnthonySingapore
URL:https://saint-anthony.org/event/sunset-mass-on-jul-4-2020/
LOCATION:Church Hall
CATEGORIES:Liturgy,YouTube Webcast
ATTACH;FMTTYPE=image/jpeg:https://saint-anthony.org/wp-content/uploads/2020/03/altar-front-view.jpg
END:VEVENT
BEGIN:VEVENT
DTSTART;TZID=Asia/Shanghai:20200707T140000
DTEND;TZID=Asia/Shanghai:20200707T170000
DTSTAMP:20260425T233511
CREATED:20200703T190220Z
LAST-MODIFIED:20200703T190328Z
UID:5240-1594130400-1594141200@saint-anthony.org
SUMMARY:Private Worship on Jul 7\, 2020
DESCRIPTION:The church will be open for private worship from 2.00 PM – 5.00 PM on Tue\, July 7\, 2020 \nYou may register a slot for you and your family using this link: \nhttps://csaprivateworship5.eventbrite.sg \nwhich will be LIVE from 7.30 PM on Jul 4\, 2020 \nPlease note the following terms and conditions. \nEach booking is for a 50-minute slot\nOnly one person should register on behalf of his/her family. Please check with your family members to prevent double booking.\nEach ticket admits up to 5 persons from the same household\nBe on time \nThe available time slots can be found in the link. \nAs seats are very limited and our volunteers sacrifice and time to make private worship available\, please ensure that you are able to attend before registering.
URL:https://saint-anthony.org/event/private-worship-jul-7-2020/
LOCATION:Church Hall
CATEGORIES:Liturgy,Zoom Event
ATTACH;FMTTYPE=image/jpeg:https://saint-anthony.org/wp-content/uploads/2020/03/Church-of-St-Anthony-CP-7.jpg
END:VEVENT
BEGIN:VEVENT
DTSTART;TZID=Asia/Shanghai:20200708T183000
DTEND;TZID=Asia/Shanghai:20200708T193000
DTSTAMP:20260425T233511
CREATED:20200703T193029Z
LAST-MODIFIED:20200703T193029Z
UID:5244-1594233000-1594236600@saint-anthony.org
SUMMARY:Weekday Mass\, Wed\, Jul 8 via Zoom
DESCRIPTION:Please join us on Zoom for our weekday mass on Wednesdays and Fridays. \nZoom Meeting ID: 914 9604 2004 Password: 483065 \nYou may offer mass intentions by following instructions found here: http://saint-anthony.org/paynow/
URL:https://saint-anthony.org/event/weekday-mass-wed-jul-8-via-zoom/
LOCATION:Church Hall
CATEGORIES:Liturgy,Zoom Event
ATTACH;FMTTYPE=image/jpeg:https://saint-anthony.org/wp-content/uploads/2020/03/altar-front-view.jpg
END:VEVENT
BEGIN:VEVENT
DTSTART;TZID=Asia/Shanghai:20200715T183000
DTEND;TZID=Asia/Shanghai:20200715T193000
DTSTAMP:20260425T233511
CREATED:20200709T143836Z
LAST-MODIFIED:20200709T143836Z
UID:5311-1594837800-1594841400@saint-anthony.org
SUMMARY:Weekday Mass\, Wed\, Jul 15 via Zoom
DESCRIPTION:Please join us on Zoom for our weekday mass on Wednesdays and Fridays. \nZoom Meeting ID: 914 9604 2004 Password: 483065 \nYou may offer mass intentions by following instructions found here: http://saint-anthony.org/paynow/
URL:https://saint-anthony.org/event/weekday-mass-wed-jul-15-via-zoom/
LOCATION:Church Hall
CATEGORIES:Liturgy,Zoom Event
ATTACH;FMTTYPE=image/jpeg:https://saint-anthony.org/wp-content/uploads/2020/03/altar-front-view.jpg
END:VEVENT
BEGIN:VEVENT
DTSTART;TZID=Asia/Shanghai:20200717T183000
DTEND;TZID=Asia/Shanghai:20200717T193000
DTSTAMP:20260425T233511
CREATED:20200709T144047Z
LAST-MODIFIED:20200717T051310Z
UID:5315-1595010600-1595014200@saint-anthony.org
SUMMARY:Weekday Mass\, Wed\, Jul 17 via Zoom
DESCRIPTION:Please join us on Zoom for our weekday mass on Wednesdays and Fridays. \nZoom Meeting ID: 914 9604 2004 Password: 483065 \nYou may offer mass intentions by following instructions found here: http://saint-anthony.org/paynow/
URL:https://saint-anthony.org/event/weekday-mass-wed-jul-17-via-zoom/
LOCATION:Zoom
CATEGORIES:Liturgy,Zoom Event
ATTACH;FMTTYPE=image/jpeg:https://saint-anthony.org/wp-content/uploads/2020/03/altar-front-view.jpg
END:VEVENT
BEGIN:VEVENT
DTSTART;TZID=Asia/Shanghai:20200722T183000
DTEND;TZID=Asia/Shanghai:20200722T193000
DTSTAMP:20260425T233511
CREATED:20200717T051412Z
LAST-MODIFIED:20200717T051412Z
UID:5341-1595442600-1595446200@saint-anthony.org
SUMMARY:Weekday Mass\, Wed\, Jul 22 via Zoom
DESCRIPTION:Please join us on Zoom for our weekday mass on Wednesdays and Fridays. \nZoom Meeting ID: 914 9604 2004 Password: 483065 \nYou may offer mass intentions by following instructions found here: http://saint-anthony.org/paynow/
URL:https://saint-anthony.org/event/weekday-mass-wed-jul-22-via-zoom/
LOCATION:Zoom
CATEGORIES:Liturgy,Zoom Event
ATTACH;FMTTYPE=image/jpeg:https://saint-anthony.org/wp-content/uploads/2020/03/altar-front-view.jpg
END:VEVENT
BEGIN:VEVENT
DTSTART;TZID=Asia/Shanghai:20200724T183000
DTEND;TZID=Asia/Shanghai:20200724T193000
DTSTAMP:20260425T233511
CREATED:20200717T051454Z
LAST-MODIFIED:20200717T051454Z
UID:5343-1595615400-1595619000@saint-anthony.org
SUMMARY:Weekday Mass\, Wed\, Jul 24 via Zoom
DESCRIPTION:Please join us on Zoom for our weekday mass on Wednesdays and Fridays. \nZoom Meeting ID: 914 9604 2004 Password: 483065 \nYou may offer mass intentions by following instructions found here: http://saint-anthony.org/paynow/
URL:https://saint-anthony.org/event/weekday-mass-wed-jul-24-via-zoom/
LOCATION:Zoom
CATEGORIES:Liturgy,Zoom Event
ATTACH;FMTTYPE=image/jpeg:https://saint-anthony.org/wp-content/uploads/2020/03/altar-front-view.jpg
END:VEVENT
BEGIN:VEVENT
DTSTART;TZID=Asia/Shanghai:20200729T183000
DTEND;TZID=Asia/Shanghai:20200729T193000
DTSTAMP:20260425T233511
CREATED:20200724T085921Z
LAST-MODIFIED:20200724T085921Z
UID:5355-1596047400-1596051000@saint-anthony.org
SUMMARY:Weekday Mass\, Wed\, Jul 29 via Zoom
DESCRIPTION:Please join us on Zoom for our weekday mass on Wednesdays and Fridays. \nZoom Meeting ID: 914 9604 2004 Password: 483065 \nYou may offer mass intentions by following instructions found here: http://saint-anthony.org/paynow/
URL:https://saint-anthony.org/event/weekday-mass-wed-jul-29-via-zoom/
LOCATION:Zoom
CATEGORIES:Liturgy,Zoom Event
ATTACH;FMTTYPE=image/jpeg:https://saint-anthony.org/wp-content/uploads/2020/03/altar-front-view.jpg
END:VEVENT
BEGIN:VEVENT
DTSTART;TZID=Asia/Shanghai:20200812T183000
DTEND;TZID=Asia/Shanghai:20200812T193000
DTSTAMP:20260425T233511
CREATED:20200810T043413Z
LAST-MODIFIED:20200810T043720Z
UID:5458-1597257000-1597260600@saint-anthony.org
SUMMARY:Weekday Mass\, Wed\, Aug 12 via Zoom
DESCRIPTION:Please join us on Zoom for our weekday mass on Wednesdays and Fridays. \nZoom Meeting ID: 914 9604 2004 Password: 483065 \nYou may offer mass intentions by following instructions found here: http://saint-anthony.org/paynow/
URL:https://saint-anthony.org/event/weekday-mass-wed-aug-11-via-zoom/
LOCATION:Zoom
CATEGORIES:Liturgy,Zoom Event
ATTACH;FMTTYPE=image/jpeg:https://saint-anthony.org/wp-content/uploads/2020/03/altar-front-view.jpg
END:VEVENT
BEGIN:VEVENT
DTSTART;TZID=Asia/Shanghai:20200814T193000
DTEND;TZID=Asia/Shanghai:20200814T203000
DTSTAMP:20260425T233511
CREATED:20200810T044247Z
LAST-MODIFIED:20200810T045131Z
UID:5464-1597433400-1597437000@saint-anthony.org
SUMMARY:Vigil Mass - Feast of the Assumption of the Blessed Virgin Mary
DESCRIPTION:The Vigil Mass for this Day of Obligation will be on Aug 14\, 2020 at 7.30 PM. The mass will be webcast simultaneously to https://www.youtube.com/c/ChurchofStAnthonySingapore \n 
URL:https://saint-anthony.org/event/vigil-mass-feast-of-the-assumption-of-the-blessed-virgin-mary/
LOCATION:Zoom
CATEGORIES:Liturgy,YouTube Webcast
ATTACH;FMTTYPE=image/jpeg:https://saint-anthony.org/wp-content/uploads/2020/08/assumption-500-2.jpg
END:VEVENT
BEGIN:VEVENT
DTSTART;TZID=Asia/Shanghai:20200815T100000
DTEND;TZID=Asia/Shanghai:20200815T110000
DTSTAMP:20260425T233511
CREATED:20200810T044501Z
LAST-MODIFIED:20200810T045112Z
UID:5468-1597485600-1597489200@saint-anthony.org
SUMMARY:Feast of the Assumption of the Blessed Virgin Mary
DESCRIPTION:Holy Mass for this Day of Obligation will be on Aug 14\, 2020 at 7.30 PM. The mass will be webcast simultaneously to https://www.youtube.com/c/ChurchofStAnthonySingapore. \n. \n 
URL:https://saint-anthony.org/event/feast-of-the-assumption-of-the-blessed-virgin-mary/
LOCATION:Zoom
CATEGORIES:Liturgy,YouTube Webcast
ATTACH;FMTTYPE=image/jpeg:https://saint-anthony.org/wp-content/uploads/2020/08/assumption-500-2.jpg
END:VEVENT
BEGIN:VEVENT
DTSTART;TZID=Asia/Shanghai:20200815T123000
DTEND;TZID=Asia/Shanghai:20200815T133000
DTSTAMP:20260425T233511
CREATED:20200814T121223Z
LAST-MODIFIED:20200814T121223Z
UID:5479-1597494600-1597498200@saint-anthony.org
SUMMARY:RCIA - Sacraments of Initiation\, Session 1
DESCRIPTION:On Aug 15\, 2020\, we will welcome a total of  17 new members to our Catholic Community. After completing their RCIA journey\, our Elects will receive the Sacraments of Initiation\, namely the Sacraments of Baptism\, Confirmation and Holy Eucharist. There will be two sessions\, one at 12.30 PM and 2.30 PM.  Each rite will be webcast simultaneously to our YouTube channel at: https://www.youtube.com/c/ChurchofStAnthonySingapore. \nPlease pray for our Elects. \n. \n 
URL:https://saint-anthony.org/event/rcia-sacraments-of-initiation-session-1/
LOCATION:Zoom
CATEGORIES:Liturgy,YouTube Webcast
ATTACH;FMTTYPE=image/jpeg:https://saint-anthony.org/wp-content/uploads/2020/08/pngfuel.com-rcia1.jpg
END:VEVENT
BEGIN:VEVENT
DTSTART;TZID=Asia/Shanghai:20200815T143000
DTEND;TZID=Asia/Shanghai:20200815T153000
DTSTAMP:20260425T233511
CREATED:20200814T121412Z
LAST-MODIFIED:20200814T121412Z
UID:5484-1597501800-1597505400@saint-anthony.org
SUMMARY:RCIA - Sacraments of Initiation\, Session 2
DESCRIPTION:On Aug 15\, 2020\, we will welcome a total of  17 new members to our Catholic Community. After completing their RCIA journey\, our Elects will receive the Sacraments of Initiation\, namely the Sacraments of Baptism\, Confirmation and Holy Eucharist. There will be two sessions\, one at 12.30 PM and 2.30 PM.  Each rite will be webcast simultaneously to our YouTube channel at: https://www.youtube.com/c/ChurchofStAnthonySingapore. \nPlease pray for our Elects. \n. \n 
URL:https://saint-anthony.org/event/rcia-sacraments-of-initiation-session-2/
LOCATION:Zoom
CATEGORIES:Liturgy,YouTube Webcast
ATTACH;FMTTYPE=image/jpeg:https://saint-anthony.org/wp-content/uploads/2020/08/pngfuel.com-rcia1.jpg
END:VEVENT
BEGIN:VEVENT
DTSTART;TZID=Asia/Shanghai:20200819T183000
DTEND;TZID=Asia/Shanghai:20200819T193000
DTSTAMP:20260425T233511
CREATED:20200818T154055Z
LAST-MODIFIED:20200818T154055Z
UID:5501-1597861800-1597865400@saint-anthony.org
SUMMARY:Weekday Mass\, Wed\, Aug 19 via Zoom
DESCRIPTION:Please join us on Zoom for our weekday mass on Wednesdays and Fridays. \nZoom Meeting ID: 914 9604 2004 Password: 483065 \nYou may offer mass intentions by following instructions found here: http://saint-anthony.org/paynow/
URL:https://saint-anthony.org/event/weekday-mass-wed-aug-19-via-zoom/
LOCATION:Zoom
CATEGORIES:Liturgy,Zoom Event
ATTACH;FMTTYPE=image/jpeg:https://saint-anthony.org/wp-content/uploads/2020/03/altar-front-view.jpg
END:VEVENT
BEGIN:VEVENT
DTSTART;TZID=Asia/Shanghai:20200821T183000
DTEND;TZID=Asia/Shanghai:20200821T193000
DTSTAMP:20260425T233511
CREATED:20200818T154207Z
LAST-MODIFIED:20200818T154207Z
UID:5503-1598034600-1598038200@saint-anthony.org
SUMMARY:Weekday Mass\, Wed\, Aug 21 via Zoom
DESCRIPTION:Please join us on Zoom for our weekday mass on Wednesdays and Fridays. \nZoom Meeting ID: 914 9604 2004 Password: 483065 \nYou may offer mass intentions by following instructions found here: http://saint-anthony.org/paynow/
URL:https://saint-anthony.org/event/weekday-mass-wed-aug-21-via-zoom/
LOCATION:Zoom
CATEGORIES:Liturgy,Zoom Event
ATTACH;FMTTYPE=image/jpeg:https://saint-anthony.org/wp-content/uploads/2020/03/altar-front-view.jpg
END:VEVENT
BEGIN:VEVENT
DTSTART;TZID=Asia/Shanghai:20200822T093000
DTEND;TZID=Asia/Shanghai:20200822T110000
DTSTAMP:20260425T233511
CREATED:20200818T143527Z
LAST-MODIFIED:20200818T155819Z
UID:5496-1598088600-1598094000@saint-anthony.org
SUMMARY:Feast of the Queenship of Mary
DESCRIPTION:On Aug 22\, 2020 we celebrate the Feast of the Queenship of Mary. This feast was instituted by Pope Pius XII in 1955 on May 31 but the reformed liturgy has transferred it to the week after the Solemnity of the Assumption of the Blessed Virgin Mary to link the Assumption with the Queenship of Mary. Join us at 9.30 AM on Aug 22 for rosary followed by Holy Mass at 10.00 AM on Zoom. Fr Ignatius Yeo will preach the homily. \nZoom Meeting ID: 914 9604 2004 Password: 483065 \n 
URL:https://saint-anthony.org/event/feast-of-the-queenship-of-mary/
LOCATION:Zoom
CATEGORIES:Feast Day,Liturgy,Zoom Event
ATTACH;FMTTYPE=image/jpeg:https://saint-anthony.org/wp-content/uploads/2020/08/virgin-mary-2176697_1920.jpg
END:VEVENT
BEGIN:VEVENT
DTSTART;TZID=Asia/Shanghai:20200826T183000
DTEND;TZID=Asia/Shanghai:20200826T193000
DTSTAMP:20260425T233511
CREATED:20200823T145543Z
LAST-MODIFIED:20200823T145543Z
UID:5517-1598466600-1598470200@saint-anthony.org
SUMMARY:Weekday Mass\, Wed\, Aug 26 via Zoom
DESCRIPTION:Please join us on Zoom for our weekday mass on Wednesdays and Fridays. \nZoom Meeting ID: 914 9604 2004 Password: 483065 \nYou may offer mass intentions by following instructions found here: http://saint-anthony.org/paynow/
URL:https://saint-anthony.org/event/weekday-mass-wed-aug-26-via-zoom/
LOCATION:Zoom
CATEGORIES:Liturgy,Zoom Event
ATTACH;FMTTYPE=image/jpeg:https://saint-anthony.org/wp-content/uploads/2020/03/altar-front-view.jpg
END:VEVENT
BEGIN:VEVENT
DTSTART;TZID=Asia/Shanghai:20200828T183000
DTEND;TZID=Asia/Shanghai:20200828T193000
DTSTAMP:20260425T233511
CREATED:20200823T145659Z
LAST-MODIFIED:20200826T040559Z
UID:5519-1598639400-1598643000@saint-anthony.org
SUMMARY:Weekday Mass\, Fri\, Aug 28 via Zoom
DESCRIPTION:Please join us on Zoom for our weekday mass on Wednesdays and Fridays. \nZoom Meeting ID: 914 9604 2004 Password: 483065 \nYou may offer mass intentions by following instructions found here: http://saint-anthony.org/paynow/
URL:https://saint-anthony.org/event/weekday-mass-wed-aug-28-via-zoom/
LOCATION:Zoom
CATEGORIES:Liturgy,Zoom Event
ATTACH;FMTTYPE=image/jpeg:https://saint-anthony.org/wp-content/uploads/2020/03/altar-front-view.jpg
END:VEVENT
BEGIN:VEVENT
DTSTART;TZID=Asia/Shanghai:20200902T183000
DTEND;TZID=Asia/Shanghai:20200902T193000
DTSTAMP:20260425T233511
CREATED:20200831T082738Z
LAST-MODIFIED:20200831T082738Z
UID:5550-1599071400-1599075000@saint-anthony.org
SUMMARY:Weekday Mass\, Wed\, Sept 2\, 2020 via Zoom
DESCRIPTION:Please join us on Zoom for our weekday mass on Wednesdays and Fridays. \nZoom Meeting ID: 914 9604 2004 Password: 483065 \nYou may offer mass intentions by following instructions found here: http://saint-anthony.org/paynow/ \nFrom Sept 2\, 2020 onward\, up to 25 parishioners may sign-up to attend mass in church on Wednesdays only. The link to sign-up is https://csaweekdaymass.eventbrite.sg/. All seats for Sept 2\, 2020 have been taken up.
URL:https://saint-anthony.org/event/weekday-mass-wed-sept-2-2020-via-zoom/
LOCATION:Zoom
CATEGORIES:Liturgy,Zoom Event
ATTACH;FMTTYPE=image/jpeg:https://saint-anthony.org/wp-content/uploads/2020/03/altar-front-view.jpg
END:VEVENT
BEGIN:VEVENT
DTSTART;TZID=Asia/Shanghai:20200902T183000
DTEND;TZID=Asia/Shanghai:20200902T193000
DTSTAMP:20260425T233511
CREATED:20200831T083315Z
LAST-MODIFIED:20200907T045515Z
UID:5552-1599071400-1599075000@saint-anthony.org
SUMMARY:Weekday Mass\, Wed\, Sept 2\, 2020 in Church
DESCRIPTION:From Sept 2\, 2020 onward\, up to 25 parishioners may sign-up to attend mass in church on Wednesdays only. The link to sign-up is https://csaweekdaymass.eventbrite.sg/. All seats for Sept 2\, 2020 have been taken up. Do sign-up for Sept 9\, 16\, 23 and 30.
URL:https://saint-anthony.org/event/weekday-mass-wed-sept-2-2020-in-church/
LOCATION:Church Hall
CATEGORIES:Church Hall,Liturgy
ATTACH;FMTTYPE=image/jpeg:https://saint-anthony.org/wp-content/uploads/2020/08/DSC_1376p.jpg
END:VEVENT
BEGIN:VEVENT
DTSTART;TZID=Asia/Shanghai:20200904T183000
DTEND;TZID=Asia/Shanghai:20200904T193000
DTSTAMP:20260425T233511
CREATED:20200831T083620Z
LAST-MODIFIED:20200831T083620Z
UID:5555-1599244200-1599247800@saint-anthony.org
SUMMARY:Weekday Mass\, Fri\, Sept 4\, 2020 via Zoom
DESCRIPTION:Please join us on Zoom for our weekday mass on Wednesdays and Fridays. \nZoom Meeting ID: 914 9604 2004 Password: 483065 \nYou may offer mass intentions by following instructions found here: http://saint-anthony.org/paynow/ \nFrom Sept 2\, 2020 onward\, up to 25 parishioners may sign-up to attend mass in church on Wednesdays only. The link to sign-up is https://csaweekdaymass.eventbrite.sg/. All seats for Sept 2\, 2020 have been taken up.
URL:https://saint-anthony.org/event/weekday-mass-fri-sept-4-2020-via-zoom/
LOCATION:Zoom
CATEGORIES:Liturgy,Zoom Event
ATTACH;FMTTYPE=image/jpeg:https://saint-anthony.org/wp-content/uploads/2020/03/altar-front-view.jpg
END:VEVENT
BEGIN:VEVENT
DTSTART;TZID=Asia/Shanghai:20200909T183000
DTEND;TZID=Asia/Shanghai:20200909T193000
DTSTAMP:20260425T233511
CREATED:20200907T045222Z
LAST-MODIFIED:20200907T045222Z
UID:5573-1599676200-1599679800@saint-anthony.org
SUMMARY:Weekday Mass\, Wed\, Sept 9\, 2020 via Zoom
DESCRIPTION:Please join us on Zoom for our weekday mass on Wednesdays and Fridays. \nZoom Meeting ID: 914 9604 2004 Password: 483065 \nYou may offer mass intentions by following instructions found here: http://saint-anthony.org/paynow/ \nFrom Sept 2\, 2020 onward\, up to 25 parishioners may sign-up to attend mass in church on Wednesdays only. The link to sign-up is https://csaweekdaymass.eventbrite.sg/.
URL:https://saint-anthony.org/event/weekday-mass-wed-sept-9-2020-via-zoom/
LOCATION:Zoom
CATEGORIES:Liturgy,Zoom Event
ATTACH;FMTTYPE=image/jpeg:https://saint-anthony.org/wp-content/uploads/2020/03/altar-front-view.jpg
END:VEVENT
BEGIN:VEVENT
DTSTART;TZID=Asia/Shanghai:20200909T183000
DTEND;TZID=Asia/Shanghai:20200909T193000
DTSTAMP:20260425T233511
CREATED:20200907T045425Z
LAST-MODIFIED:20200907T045425Z
UID:5575-1599676200-1599679800@saint-anthony.org
SUMMARY:Weekday Mass\, Wed\, Sept 9\, 2020 in Church
DESCRIPTION:From Sept 2\, 2020 onward\, up to 25 parishioners may sign-up to attend mass in church on Wednesdays only. The link to sign-up is https://csaweekdaymass.eventbrite.sg/.  Do sign-up for any of these dates – Sept 9\, 16\, 23 and 30.
URL:https://saint-anthony.org/event/weekday-mass-wed-sept-9-2020-in-church/
LOCATION:Church Hall
CATEGORIES:Church Hall,Liturgy
ATTACH;FMTTYPE=image/jpeg:https://saint-anthony.org/wp-content/uploads/2020/08/DSC_1376p.jpg
END:VEVENT
BEGIN:VEVENT
DTSTART;TZID=Asia/Shanghai:20200911T183000
DTEND;TZID=Asia/Shanghai:20200911T193000
DTSTAMP:20260425T233511
CREATED:20200907T045117Z
LAST-MODIFIED:20200907T045117Z
UID:5571-1599849000-1599852600@saint-anthony.org
SUMMARY:Weekday Mass\, Fri\, Sept 11\, 2020 via Zoom
DESCRIPTION:Please join us on Zoom for our weekday mass on Wednesdays and Fridays. \nZoom Meeting ID: 914 9604 2004 Password: 483065 \nYou may offer mass intentions by following instructions found here: http://saint-anthony.org/paynow/ \nFrom Sept 2\, 2020 onward\, up to 25 parishioners may sign-up to attend mass in church on Wednesdays only. The link to sign-up is https://csaweekdaymass.eventbrite.sg/. All seats for Sept 2\, 2020 have been taken up.
URL:https://saint-anthony.org/event/weekday-mass-fri-sept-11-2020-via-zoom/
LOCATION:Zoom
CATEGORIES:Liturgy,Zoom Event
ATTACH;FMTTYPE=image/jpeg:https://saint-anthony.org/wp-content/uploads/2020/03/altar-front-view.jpg
END:VEVENT
BEGIN:VEVENT
DTSTART;TZID=Asia/Shanghai:20200916T183000
DTEND;TZID=Asia/Shanghai:20200916T193000
DTSTAMP:20260425T233511
CREATED:20200912T030950Z
LAST-MODIFIED:20200912T031231Z
UID:5590-1600281000-1600284600@saint-anthony.org
SUMMARY:Weekday Mass\, Wed\, Sept 16\, 2020 in Church
DESCRIPTION:From Sept 2\, 2020 onward\, up to 25 parishioners may sign-up to attend mass in church on Wednesdays only. The link to sign-up is https://csaweekdaymass.eventbrite.sg/.  Do sign-up for any of these dates – Sept 9\, 16\, 23 and 30.
URL:https://saint-anthony.org/event/weekday-mass-wed-sept-16-2020-in-church/
LOCATION:Church Hall
CATEGORIES:Church Hall,Liturgy
ATTACH;FMTTYPE=image/jpeg:https://saint-anthony.org/wp-content/uploads/2020/08/DSC_1376p.jpg
END:VEVENT
BEGIN:VEVENT
DTSTART;TZID=Asia/Shanghai:20200916T183000
DTEND;TZID=Asia/Shanghai:20200916T193000
DTSTAMP:20260425T233511
CREATED:20200912T031158Z
LAST-MODIFIED:20200912T031649Z
UID:5594-1600281000-1600284600@saint-anthony.org
SUMMARY:Weekday Mass\, Wed\, Sept 16\, 2020 via Zoom
DESCRIPTION:Please join us on Zoom for our weekday mass on Wednesdays and Fridays. \nZoom Meeting ID: 914 9604 2004 Password: 483065 or use this link: https://tinyurl.com/y68cdwct \nYou may offer mass intentions by following instructions found here: http://saint-anthony.org/paynow/ \nFrom Sept 2\, 2020 onward\, up to 25 parishioners may sign-up to attend mass in church on Wednesdays only. The link to sign-up is https://csaweekdaymass.eventbrite.sg/.
URL:https://saint-anthony.org/event/weekday-mass-wed-sept-16-2020-via-zoom/
LOCATION:Zoom
CATEGORIES:Liturgy,Zoom Event
ATTACH;FMTTYPE=image/jpeg:https://saint-anthony.org/wp-content/uploads/2020/03/altar-front-view.jpg
END:VEVENT
BEGIN:VEVENT
DTSTART;TZID=Asia/Shanghai:20200918T183000
DTEND;TZID=Asia/Shanghai:20200918T193000
DTSTAMP:20260425T233511
CREATED:20200912T031523Z
LAST-MODIFIED:20200912T031616Z
UID:5596-1600453800-1600457400@saint-anthony.org
SUMMARY:Weekday Mass\, Fri\, Sept 18\, 2020 via Zoom
DESCRIPTION:Please join us on Zoom for our weekday mass on Wednesdays and Fridays. \nZoom Meeting ID: 914 9604 2004 Password: 483065 or use this link: https://tinyurl.com/y68cdwct \nYou may offer mass intentions by following instructions found here: http://saint-anthony.org/paynow/ \nFrom Sept 2\, 2020 onward\, up to 25 parishioners may sign-up to attend mass in church on Wednesdays only. The link to sign-up is https://csaweekdaymass.eventbrite.sg/. All seats for Sept 2\, 2020 have been taken up.
URL:https://saint-anthony.org/event/weekday-mass-fri-sept-18-2020-via-zoom/
LOCATION:Zoom
CATEGORIES:Liturgy,Zoom Event
ATTACH;FMTTYPE=image/jpeg:https://saint-anthony.org/wp-content/uploads/2020/03/altar-front-view.jpg
END:VEVENT
BEGIN:VEVENT
DTSTART;TZID=Asia/Shanghai:20200923T183000
DTEND;TZID=Asia/Shanghai:20200923T193000
DTSTAMP:20260425T233511
CREATED:20200918T164502Z
LAST-MODIFIED:20200918T164502Z
UID:5622-1600885800-1600889400@saint-anthony.org
SUMMARY:Weekday Mass\, Wed\, Sept 23\, 2020 via Zoom
DESCRIPTION:Please join us on Zoom for our weekday mass on Wednesdays and Fridays. \nZoom Meeting ID: 914 9604 2004 Password: 483065 or use this link: https://tinyurl.com/y68cdwct \nYou may offer mass intentions by following instructions found here: http://saint-anthony.org/paynow/ \nFrom Sept 2\, 2020 onward\, up to 25 parishioners may sign-up to attend mass in church on Wednesdays only. The link to sign-up is https://csaweekdaymass.eventbrite.sg/.
URL:https://saint-anthony.org/event/weekday-mass-wed-sept-23-2020-via-zoom/
LOCATION:Zoom
CATEGORIES:Liturgy,Zoom Event
ATTACH;FMTTYPE=image/jpeg:https://saint-anthony.org/wp-content/uploads/2020/03/altar-front-view.jpg
END:VEVENT
BEGIN:VEVENT
DTSTART;TZID=Asia/Shanghai:20200923T183000
DTEND;TZID=Asia/Shanghai:20200923T193000
DTSTAMP:20260425T233511
CREATED:20200918T164616Z
LAST-MODIFIED:20200918T164616Z
UID:5624-1600885800-1600889400@saint-anthony.org
SUMMARY:Weekday Mass\, Wed\, Sept 23\, 2020 in Church
DESCRIPTION:From Sept 2\, 2020 onward\, up to 25 parishioners may sign-up to attend mass in church on Wednesdays only. The link to sign-up is https://csaweekdaymass.eventbrite.sg/.  Do sign-up for any of these dates – Sept 9\, 16\, 23 and 30.
URL:https://saint-anthony.org/event/weekday-mass-wed-sept-23-2020-in-church/
LOCATION:Church Hall
CATEGORIES:Church Hall,Liturgy
ATTACH;FMTTYPE=image/jpeg:https://saint-anthony.org/wp-content/uploads/2020/08/DSC_1376p.jpg
END:VEVENT
END:VCALENDAR