BEGIN:VCALENDAR
VERSION:2.0
PRODID:-//Church of Saint Anthony - ECPv6.6.1//NONSGML v1.0//EN
CALSCALE:GREGORIAN
METHOD:PUBLISH
X-WR-CALNAME:Church of Saint Anthony
X-ORIGINAL-URL:https://saint-anthony.org
X-WR-CALDESC:Events for Church of Saint Anthony
REFRESH-INTERVAL;VALUE=DURATION:PT1H
X-Robots-Tag:noindex
X-PUBLISHED-TTL:PT1H
BEGIN:VTIMEZONE
TZID:Asia/Shanghai
BEGIN:STANDARD
TZOFFSETFROM:+0800
TZOFFSETTO:+0800
TZNAME:CST
DTSTART:20200101T000000
END:STANDARD
END:VTIMEZONE
BEGIN:VEVENT
DTSTART;TZID=Asia/Shanghai:20201030T183000
DTEND;TZID=Asia/Shanghai:20201030T193000
DTSTAMP:20260425T233659
CREATED:20201023T173657Z
LAST-MODIFIED:20201023T173657Z
UID:5758-1604082600-1604086200@saint-anthony.org
SUMMARY:Weekday Mass with Devotion to the Sacred Heart of Jesus\, Fri\, Oct 30\, 2020 in Church and via Zoom
DESCRIPTION:Please join us on Zoom for our weekday mass on Wednesdays and Fridays at 6.30 PM. On Fridays\, there will be a devotion to the Sacred Heart of Jesus at 6.00 PM before the mass. Parishioners are also invited to book a seat in the church hall via https://www.mycatholic.sg/ on both days. \nZoom Meeting ID: 914 9604 2004 Password: 483065 or use this link: https://tinyurl.com/y68cdwct \nYou may offer mass intentions by following instructions found here: http://saint-anthony.org/paynow/ \n 
URL:https://saint-anthony.org/event/weekday-mass-with-devotion-to-the-sacred-heart-of-jesus-fri-oct-30-2020-in-church-and-via-zoom/
LOCATION:Zoom
CATEGORIES:Church Hall,Liturgy,Zoom Event
ATTACH;FMTTYPE=image/jpeg:https://saint-anthony.org/wp-content/uploads/2020/03/altar-front-view.jpg
END:VEVENT
BEGIN:VEVENT
DTSTART;TZID=Asia/Shanghai:20201104T183000
DTEND;TZID=Asia/Shanghai:20201104T193000
DTSTAMP:20260425T233659
CREATED:20201029T133426Z
LAST-MODIFIED:20201029T133817Z
UID:5776-1604514600-1604518200@saint-anthony.org
SUMMARY:Weekday Mass\, Wed\, Nov 4\, 2020 in Church and via Zoom
DESCRIPTION:Please join us on Zoom or in church for our weekday masses on Wednesdays and Fridays at 6.30 PM. On Fridays\, there will be a devotion to the Sacred Heart of Jesus at 6.00 PM before the mass. Parishioners may book a seat in the church hall via https://www.mycatholic.sg/ on both days. \nZoom Meeting ID: 914 9604 2004 Password: 483065 or use this link: https://tinyurl.com/y68cdwct \nYou may offer mass intentions by following instructions found here: http://saint-anthony.org/paynow/ \n 
URL:https://saint-anthony.org/event/weekday-mass-wed-nov-4-2020-in-church-and-via-zoom/
LOCATION:Zoom
CATEGORIES:Church Hall,Liturgy,Zoom Event
ATTACH;FMTTYPE=image/jpeg:https://saint-anthony.org/wp-content/uploads/2020/03/altar-front-view.jpg
END:VEVENT
BEGIN:VEVENT
DTSTART;TZID=Asia/Shanghai:20201106T183000
DTEND;TZID=Asia/Shanghai:20201106T193000
DTSTAMP:20260425T233659
CREATED:20201029T133244Z
LAST-MODIFIED:20201110T105029Z
UID:5774-1604687400-1604691000@saint-anthony.org
SUMMARY:Weekday Mass with Devotion to the Sacred Heart of Jesus\, Fri\, Nov 6\, 2020 in Church and via Zoom
DESCRIPTION:Please join us on Zoom or in church for our weekday masses on Wednesdays and Fridays at 6.30 PM. On Fridays\, there will be a devotion to the Sacred Heart of Jesus at 6.00 PM before the mass. Parishioners may book a seat in the church hall via https://www.mycatholic.sg/ on both days. Doors will close at 6.15 PM and late comers will not be allowed in. \nZoom Meeting ID: 914 9604 2004 Password: 483065 or use this link: https://tinyurl.com/y68cdwct \nYou may offer mass intentions by following instructions found here: http://saint-anthony.org/paynow/ \n 
URL:https://saint-anthony.org/event/weekday-mass-with-devotion-to-the-sacred-heart-of-jesus-fri-nov-7-2020-in-church-and-via-zoom/
LOCATION:Zoom
CATEGORIES:Church Hall,Liturgy,Zoom Event
ATTACH;FMTTYPE=image/jpeg:https://saint-anthony.org/wp-content/uploads/2020/03/altar-front-view.jpg
END:VEVENT
BEGIN:VEVENT
DTSTART;TZID=Asia/Shanghai:20201111T183000
DTEND;TZID=Asia/Shanghai:20201111T193000
DTSTAMP:20260425T233659
CREATED:20201110T104747Z
LAST-MODIFIED:20201110T104747Z
UID:5789-1605119400-1605123000@saint-anthony.org
SUMMARY:Weekday Mass\, Wed\, Nov 11\, 2020 in Church and via Zoom
DESCRIPTION:Please join us on Zoom or in church for our weekday masses on Wednesdays and Fridays at 6.30 PM. On Fridays\, there will be a devotion to the Sacred Heart of Jesus at 6.00 PM before the mass. Parishioners may book a seat in the church hall via https://www.mycatholic.sg/ on both days. \nZoom Meeting ID: 914 9604 2004 Password: 483065 or use this link: https://tinyurl.com/y68cdwct \nYou may offer mass intentions by following instructions found here: http://saint-anthony.org/paynow/ \n 
URL:https://saint-anthony.org/event/weekday-mass-wed-nov-11-2020-in-church-and-via-zoom/
LOCATION:Zoom
CATEGORIES:Church Hall,Liturgy,Zoom Event
ATTACH;FMTTYPE=image/jpeg:https://saint-anthony.org/wp-content/uploads/2020/03/altar-front-view.jpg
END:VEVENT
BEGIN:VEVENT
DTSTART;TZID=Asia/Shanghai:20201113T183000
DTEND;TZID=Asia/Shanghai:20201113T193000
DTSTAMP:20260425T233659
CREATED:20201110T105339Z
LAST-MODIFIED:20201110T105339Z
UID:5793-1605292200-1605295800@saint-anthony.org
SUMMARY:Weekday Mass with Devotion to the Sacred Heart of Jesus\, Fri\, Nov 13\, 2020 in Church and via Zoom
DESCRIPTION:Please join us on Zoom or in church for our weekday masses on Wednesdays and Fridays at 6.30 PM. On Fridays\, there will be a devotion to the Sacred Heart of Jesus at 6.00 PM before the mass. Parishioners may book a seat in the church hall via https://www.mycatholic.sg/ on both days. Doors will close at 6.15 PM and late comers will not be allowed in. \nZoom Meeting ID: 914 9604 2004 Password: 483065 or use this link: https://tinyurl.com/y68cdwct \nYou may offer mass intentions by following instructions found here: http://saint-anthony.org/paynow/ \n 
URL:https://saint-anthony.org/event/weekday-mass-with-devotion-to-the-sacred-heart-of-jesus-fri-nov-13-2020-in-church-and-via-zoom/
LOCATION:Zoom
CATEGORIES:Church Hall,Liturgy,Zoom Event
ATTACH;FMTTYPE=image/jpeg:https://saint-anthony.org/wp-content/uploads/2020/03/altar-front-view.jpg
END:VEVENT
BEGIN:VEVENT
DTSTART;TZID=Asia/Shanghai:20201118T183000
DTEND;TZID=Asia/Shanghai:20201118T193000
DTSTAMP:20260425T233659
CREATED:20201116T051927Z
LAST-MODIFIED:20201116T051927Z
UID:5815-1605724200-1605727800@saint-anthony.org
SUMMARY:Weekday Mass\, Wed\, Nov 18\, 2020 in Church and via Zoom
DESCRIPTION:Please join us on Zoom or in church for our weekday masses on Wednesdays and Fridays at 6.30 PM. On Fridays\, there will be a devotion to the Sacred Heart of Jesus at 6.00 PM before the mass. Parishioners may book a seat in the church hall via https://www.mycatholic.sg/ on both days. \nZoom Meeting ID: 914 9604 2004 Password: 483065 or use this link: https://tinyurl.com/y68cdwct \nYou may offer mass intentions by following instructions found here: http://saint-anthony.org/paynow/ \n 
URL:https://saint-anthony.org/event/weekday-mass-wed-nov-18-2020-in-church-and-via-zoom/
LOCATION:Zoom
CATEGORIES:Church Hall,Liturgy,Zoom Event
ATTACH;FMTTYPE=image/jpeg:https://saint-anthony.org/wp-content/uploads/2020/03/altar-front-view.jpg
END:VEVENT
BEGIN:VEVENT
DTSTART;TZID=Asia/Shanghai:20201120T183000
DTEND;TZID=Asia/Shanghai:20201120T193000
DTSTAMP:20260425T233659
CREATED:20201116T052125Z
LAST-MODIFIED:20201116T052125Z
UID:5818-1605897000-1605900600@saint-anthony.org
SUMMARY:Weekday Mass with Devotion to the Sacred Heart of Jesus\, Fri\, Nov 20\, 2020 in Church and via Zoom
DESCRIPTION:Please join us on Zoom or in church for our weekday masses on Wednesdays and Fridays at 6.30 PM. On Fridays\, there will be a devotion to the Sacred Heart of Jesus at 6.00 PM before the mass. Parishioners may book a seat in the church hall via https://www.mycatholic.sg/ on both days. Doors will close at 6.15 PM and late comers will not be allowed in. \nZoom Meeting ID: 914 9604 2004 Password: 483065 or use this link: https://tinyurl.com/y68cdwct \nYou may offer mass intentions by following instructions found here: http://saint-anthony.org/paynow/ \n 
URL:https://saint-anthony.org/event/weekday-mass-with-devotion-to-the-sacred-heart-of-jesus-fri-nov-20-2020-in-church-and-via-zoom/
LOCATION:Zoom
CATEGORIES:Church Hall,Liturgy,Zoom Event
ATTACH;FMTTYPE=image/jpeg:https://saint-anthony.org/wp-content/uploads/2020/03/altar-front-view.jpg
END:VEVENT
BEGIN:VEVENT
DTSTART;TZID=Asia/Shanghai:20201125T183000
DTEND;TZID=Asia/Shanghai:20201125T193000
DTSTAMP:20260425T233659
CREATED:20201122T074427Z
LAST-MODIFIED:20201122T074427Z
UID:5834-1606329000-1606332600@saint-anthony.org
SUMMARY:Weekday Mass\, Wed\, Nov 25\, 2020 in Church and via Zoom
DESCRIPTION:Please join us on Zoom or in church for our weekday masses on Wednesdays and Fridays at 6.30 PM. On Fridays\, there will be a devotion to the Sacred Heart of Jesus at 6.00 PM before the mass. Parishioners may book a seat in the church hall via https://www.mycatholic.sg/ on both days. \nZoom Meeting ID: 914 9604 2004 Password: 483065 or use this link: https://tinyurl.com/y68cdwct \nYou may offer mass intentions by following instructions found here: http://saint-anthony.org/paynow/ \n 
URL:https://saint-anthony.org/event/weekday-mass-wed-nov-25-2020-in-church-and-via-zoom/
LOCATION:Zoom
CATEGORIES:Church Hall,Liturgy,Zoom Event
ATTACH;FMTTYPE=image/jpeg:https://saint-anthony.org/wp-content/uploads/2020/03/altar-front-view.jpg
END:VEVENT
BEGIN:VEVENT
DTSTART;TZID=Asia/Shanghai:20201223T183000
DTEND;TZID=Asia/Shanghai:20201223T193000
DTSTAMP:20260425T233659
CREATED:20201218T061143Z
LAST-MODIFIED:20201223T081904Z
UID:5838-1608748200-1608751800@saint-anthony.org
SUMMARY:Weekday Mass\, Wed\, Dec 23\, 2020 in Church and via Zoom
DESCRIPTION:Please join us on Zoom or in church for our weekday masses on Wednesdays Fridays at 6.30 PM. On Fridays\, there will be a devotion to the Sacred Heart of Jesus at 6.00 PM before the mass. Parishioners may book a seat in the church hall via https://www.mycatholic.sg/ on both days. Doors will close at 6.15 PM and late comers will not be allowed in. \nZoom Meeting ID: 914 9604 2004 Password: 483065 or use this link: https://tinyurl.com/y68cdwct \nYou may offer mass intentions by following instructions found here: http://saint-anthony.org/paynow/ \n 
URL:https://saint-anthony.org/event/weekday-mass-with-devotion-to-the-sacred-heart-of-jesus-wed-dec-23-2020-in-church-and-via-zoom/
LOCATION:Zoom
CATEGORIES:Church Hall,Liturgy,Zoom Event
ATTACH;FMTTYPE=image/jpeg:https://saint-anthony.org/wp-content/uploads/2020/03/altar-front-view.jpg
END:VEVENT
BEGIN:VEVENT
DTSTART;TZID=Asia/Shanghai:20201230T183000
DTEND;TZID=Asia/Shanghai:20201230T193000
DTSTAMP:20260425T233659
CREATED:20201223T081820Z
LAST-MODIFIED:20201223T081820Z
UID:6051-1609353000-1609356600@saint-anthony.org
SUMMARY:Weekday Mass\, Wed\, Dec 30\, 2020 in Church and via Zoom
DESCRIPTION:Please join us on Zoom or in church for our weekday masses on Wednesdays Fridays at 6.30 PM. On Fridays\, there will be a devotion to the Sacred Heart of Jesus at 6.00 PM before the mass. Parishioners may book a seat in the church hall via https://www.mycatholic.sg/ on both days. Doors will close at 6.15 PM and late comers will not be allowed in. \nZoom Meeting ID: 914 9604 2004 Password: 483065 or use this link: https://tinyurl.com/y68cdwct \nYou may offer mass intentions by following instructions found here: http://saint-anthony.org/paynow/ \n 
URL:https://saint-anthony.org/event/weekday-mass-wed-dec-30-2020-in-church-and-via-zoom/
LOCATION:Zoom
CATEGORIES:Church Hall,Liturgy,Zoom Event
ATTACH;FMTTYPE=image/jpeg:https://saint-anthony.org/wp-content/uploads/2020/03/altar-front-view.jpg
END:VEVENT
END:VCALENDAR