BEGIN:VCALENDAR
VERSION:2.0
PRODID:-//Church of Saint Anthony - ECPv6.6.1//NONSGML v1.0//EN
CALSCALE:GREGORIAN
METHOD:PUBLISH
X-WR-CALNAME:Church of Saint Anthony
X-ORIGINAL-URL:https://saint-anthony.org
X-WR-CALDESC:Events for Church of Saint Anthony
REFRESH-INTERVAL;VALUE=DURATION:PT1H
X-Robots-Tag:noindex
X-PUBLISHED-TTL:PT1H
BEGIN:VTIMEZONE
TZID:Asia/Shanghai
BEGIN:STANDARD
TZOFFSETFROM:+0800
TZOFFSETTO:+0800
TZNAME:CST
DTSTART:20220101T000000
END:STANDARD
END:VTIMEZONE
BEGIN:VEVENT
DTSTART;TZID=Asia/Shanghai:20220609T200000
DTEND;TZID=Asia/Shanghai:20220609T210000
DTSTAMP:20260424T221102
CREATED:20220606T052254Z
LAST-MODIFIED:20220606T052254Z
UID:6996-1654804800-1654808400@saint-anthony.org
SUMMARY:Feast Day 2022 - Triduum Day 2
DESCRIPTION:Day 2 of our Triduum leading up to our Feast Day Mass will be on 9 June (Thurs) at 8.00 PM. Friar Joe Nathan\, a Franciscan Friar who was ordained at our church will preach on the theme\, “We are in relationship with Father\, Son and Holy Spirit in Mission. ” \nJoin us in church but remember to bring your IC to help us with our head count for communion.
URL:https://saint-anthony.org/event/feast-day-2022-triduum-day-2/
CATEGORIES:Church Hall,YouTube Webcast
ATTACH;FMTTYPE=image/jpeg:https://saint-anthony.org/wp-content/uploads/2022/06/1ws.jpg
END:VEVENT
END:VCALENDAR