BEGIN:VCALENDAR
VERSION:2.0
PRODID:-//Church of Saint Anthony - ECPv6.6.1//NONSGML v1.0//EN
CALSCALE:GREGORIAN
METHOD:PUBLISH
X-ORIGINAL-URL:https://saint-anthony.org
X-WR-CALDESC:Events for Church of Saint Anthony
REFRESH-INTERVAL;VALUE=DURATION:PT1H
X-Robots-Tag:noindex
X-PUBLISHED-TTL:PT1H
BEGIN:VTIMEZONE
TZID:Asia/Shanghai
BEGIN:STANDARD
TZOFFSETFROM:+0800
TZOFFSETTO:+0800
TZNAME:CST
DTSTART:20220101T000000
END:STANDARD
END:VTIMEZONE
BEGIN:VEVENT
DTSTART;TZID=Asia/Shanghai:20220610T200000
DTEND;TZID=Asia/Shanghai:20220610T210000
DTSTAMP:20260424T220638
CREATED:20220606T052711Z
LAST-MODIFIED:20220606T052711Z
UID:6998-1654891200-1654894800@saint-anthony.org
SUMMARY:Feast Day 2022 - Triduum Day 3
DESCRIPTION:The final day of our Feast Day Triduum will be celebrated on 10 June (Fri) at 8.00 PM. Rev Msgr Ambrose Vaz will share his homily on the theme\, “Our Union with God as Church on Mission.” \nDo join us on Day 3 as we celebrate our church Feast Day and that of our Patron Saint\, Saint Anthony of Padua. Do bring along your IC to help us with our communion headcount.
URL:https://saint-anthony.org/event/feast-day-2022-triduum-day-3/
CATEGORIES:Church Hall,YouTube Webcast
ATTACH;FMTTYPE=image/jpeg:https://saint-anthony.org/wp-content/uploads/2022/06/1ws.jpg
END:VEVENT
END:VCALENDAR